Package: pairkat Version: 1.15.0 Command: rm -rf pairkat.buildbin-libdir && mkdir pairkat.buildbin-libdir && F:\biocbuild\bbs-3.22-bioc\R\bin\R.exe CMD INSTALL --build --library=pairkat.buildbin-libdir pairkat_1.15.0.tar.gz StartedAt: 2025-08-15 10:54:55 -0400 (Fri, 15 Aug 2025) EndedAt: 2025-08-15 10:55:21 -0400 (Fri, 15 Aug 2025) EllapsedTime: 26.2 seconds RetCode: 0 Status: OK PackageFile: pairkat_1.15.0.zip PackageFileSize: 816.6 KiB