Package: pairkat Version: 1.15.0 Command: /Library/Frameworks/R.framework/Resources/bin/R CMD check --install=check:pairkat.install-out.txt --library=/Library/Frameworks/R.framework/Resources/library --no-vignettes --timings pairkat_1.15.0.tar.gz StartedAt: 2025-10-21 23:55:39 -0400 (Tue, 21 Oct 2025) EndedAt: 2025-10-22 00:10:15 -0400 (Wed, 22 Oct 2025) EllapsedTime: 876.6 seconds RetCode: 0 Status: OK CheckDir: pairkat.Rcheck Warnings: 0