Package: pairkat Version: 1.15.0 Command: /Library/Frameworks/R.framework/Resources/bin/R CMD build --keep-empty-dirs --no-resave-data pairkat StartedAt: 2025-10-21 18:46:45 -0400 (Tue, 21 Oct 2025) EndedAt: 2025-10-21 18:59:04 -0400 (Tue, 21 Oct 2025) EllapsedTime: 739.3 seconds RetCode: 0 Status: OK PackageFile: pairkat_1.15.0.tar.gz PackageFileSize: 827.9 KiB