Package: pairkat Version: 1.16.0 Command: /Library/Frameworks/R.framework/Resources/bin/R CMD INSTALL pairkat StartedAt: 2025-11-10 15:11:31 -0500 (Mon, 10 Nov 2025) EndedAt: 2025-11-10 15:11:41 -0500 (Mon, 10 Nov 2025) EllapsedTime: 9.8 seconds RetCode: 0 Status: OK