Package: pairkat Version: 1.16.0 Command: /Library/Frameworks/R.framework/Resources/bin/R CMD build --keep-empty-dirs --no-resave-data pairkat StartedAt: 2025-11-10 17:18:31 -0500 (Mon, 10 Nov 2025) EndedAt: 2025-11-10 17:21:54 -0500 (Mon, 10 Nov 2025) EllapsedTime: 203.2 seconds RetCode: 0 Status: OK PackageFile: pairkat_1.16.0.tar.gz PackageFileSize: 827.5 KiB