Package: pairedGSEA Version: 1.9.0 Command: /home/biocbuild/bbs-3.22-bioc/R/bin/R CMD check --install=check:pairedGSEA.install-out.txt --library=/home/biocbuild/bbs-3.22-bioc/R/site-library --timings pairedGSEA_1.9.0.tar.gz StartedAt: 2025-10-25 02:32:39 -0400 (Sat, 25 Oct 2025) EndedAt: 2025-10-25 02:44:18 -0400 (Sat, 25 Oct 2025) EllapsedTime: 698.8 seconds RetCode: 0 Status: OK CheckDir: pairedGSEA.Rcheck Warnings: 0