Package: pairedGSEA Version: 1.9.0 Command: /Library/Frameworks/R.framework/Resources/bin/R CMD check --install=check:pairedGSEA.install-out.txt --library=/Library/Frameworks/R.framework/Resources/library --no-vignettes --timings pairedGSEA_1.9.0.tar.gz StartedAt: 2025-10-28 21:12:22 -0400 (Tue, 28 Oct 2025) EndedAt: 2025-10-28 21:15:17 -0400 (Tue, 28 Oct 2025) EllapsedTime: 174.9 seconds RetCode: 0 Status: OK CheckDir: pairedGSEA.Rcheck Warnings: 0