Package: pairedGSEA Version: 1.9.0 Command: rm -rf pairedGSEA.buildbin-libdir && mkdir pairedGSEA.buildbin-libdir && /Users/biocbuild/BBS/utils/build-universal.sh pairedGSEA_1.9.0.tar.gz /Library/Frameworks/R.framework/Resources/bin/R pairedGSEA.buildbin-libdir StartedAt: 2025-10-27 23:13:04 -0400 (Mon, 27 Oct 2025) EndedAt: 2025-10-27 23:13:19 -0400 (Mon, 27 Oct 2025) EllapsedTime: 15.4 seconds RetCode: 0 Status: OK PackageFile: pairedGSEA_1.9.0.tgz PackageFileSize: 683.3 KiB