Package: packFinder Version: 1.21.0 Command: /home/biocbuild/R/R/bin/R CMD INSTALL packFinder StartedAt: 2025-10-16 21:27:56 -0000 (Thu, 16 Oct 2025) EndedAt: 2025-10-16 21:28:00 -0000 (Thu, 16 Oct 2025) EllapsedTime: 3.6 seconds RetCode: 0 Status: OK