Package: packFinder Version: 1.21.0 Command: /home/biocbuild/R/R/bin/R CMD check --install=check:packFinder.install-out.txt --library=/home/biocbuild/R/R/site-library --no-vignettes --timings packFinder_1.21.0.tar.gz StartedAt: 2025-10-17 11:57:26 -0000 (Fri, 17 Oct 2025) EndedAt: 2025-10-17 11:58:16 -0000 (Fri, 17 Oct 2025) EllapsedTime: 50.1 seconds RetCode: 0 Status: OK CheckDir: packFinder.Rcheck Warnings: 0