Package: packFinder Version: 1.21.0 Command: /home/biocbuild/bbs-3.22-bioc/R/bin/R CMD INSTALL packFinder StartedAt: 2025-10-20 15:14:37 -0400 (Mon, 20 Oct 2025) EndedAt: 2025-10-20 15:14:39 -0400 (Mon, 20 Oct 2025) EllapsedTime: 2.5 seconds RetCode: 0 Status: OK