Package: packFinder Version: 1.21.0 Command: /Library/Frameworks/R.framework/Resources/bin/R CMD check --install=check:packFinder.install-out.txt --library=/Library/Frameworks/R.framework/Resources/library --no-vignettes --timings packFinder_1.21.0.tar.gz StartedAt: 2025-10-21 23:52:46 -0400 (Tue, 21 Oct 2025) EndedAt: 2025-10-21 23:54:17 -0400 (Tue, 21 Oct 2025) EllapsedTime: 91.8 seconds RetCode: 0 Status: OK CheckDir: packFinder.Rcheck Warnings: 0