Package: orthos Version: 1.7.4 Command: /Library/Frameworks/R.framework/Resources/bin/R CMD check --install=check:orthos.install-out.txt --library=/Library/Frameworks/R.framework/Resources/library --no-vignettes --timings orthos_1.7.4.tar.gz StartedAt: 2025-10-05 20:54:49 -0400 (Sun, 05 Oct 2025) EndedAt: 2025-10-05 20:59:52 -0400 (Sun, 05 Oct 2025) EllapsedTime: 302.6 seconds RetCode: 0 Status: OK CheckDir: orthos.Rcheck Warnings: 0