Package: orthos Version: 1.7.4 Command: /Library/Frameworks/R.framework/Resources/bin/R CMD build --keep-empty-dirs --no-resave-data orthos StartedAt: 2025-10-05 17:18:10 -0400 (Sun, 05 Oct 2025) EndedAt: 2025-10-05 17:19:42 -0400 (Sun, 05 Oct 2025) EllapsedTime: 92.0 seconds RetCode: 0 Status: OK PackageFile: orthos_1.7.4.tar.gz PackageFileSize: 2.998 MiB