Package: orthogene Version: 1.15.02 Command: /home/biocbuild/R/R/bin/R CMD build --keep-empty-dirs --no-resave-data orthogene StartedAt: 2025-10-17 03:19:59 -0000 (Fri, 17 Oct 2025) EndedAt: 2025-10-17 03:20:41 -0000 (Fri, 17 Oct 2025) EllapsedTime: 42.0 seconds RetCode: 0 Status: OK PackageFile: orthogene_1.15.02.tar.gz PackageFileSize: 2.523 MiB