Package: orthogene Version: 1.15.0 Command: F:\biocbuild\bbs-3.22-bioc\R\bin\R.exe CMD check --no-multiarch --install=check:orthogene.install-out.txt --library=F:\biocbuild\bbs-3.22-bioc\R\library --no-vignettes --timings orthogene_1.15.0.tar.gz StartedAt: 2025-08-15 06:06:20 -0400 (Fri, 15 Aug 2025) EndedAt: 2025-08-15 06:16:23 -0400 (Fri, 15 Aug 2025) EllapsedTime: 603.0 seconds RetCode: 0 Status: OK CheckDir: orthogene.Rcheck Warnings: 0