Package: orthogene Version: 1.15.0 Command: chmod a+r orthogene -R && F:\biocbuild\bbs-3.22-bioc\R\bin\R.exe CMD build --keep-empty-dirs --no-resave-data orthogene StartedAt: 2025-08-14 22:05:34 -0400 (Thu, 14 Aug 2025) EndedAt: 2025-08-14 22:07:04 -0400 (Thu, 14 Aug 2025) EllapsedTime: 90.4 seconds RetCode: 0 Status: OK PackageFile: orthogene_1.15.0.tar.gz PackageFileSize: 2.473 MiB