Package: orthogene Version: 1.15.0 Command: rm -rf orthogene.buildbin-libdir && mkdir orthogene.buildbin-libdir && F:\biocbuild\bbs-3.22-bioc\R\bin\R.exe CMD INSTALL --build --library=orthogene.buildbin-libdir orthogene_1.15.0.tar.gz StartedAt: 2025-08-15 10:54:08 -0400 (Fri, 15 Aug 2025) EndedAt: 2025-08-15 10:54:45 -0400 (Fri, 15 Aug 2025) EllapsedTime: 36.6 seconds RetCode: 0 Status: OK PackageFile: orthogene_1.15.0.zip PackageFileSize: 2.674 MiB