Package: orthogene Version: 1.15.02 Command: /home/biocbuild/bbs-3.22-bioc/R/bin/R CMD INSTALL orthogene StartedAt: 2025-10-19 15:32:20 -0400 (Sun, 19 Oct 2025) EndedAt: 2025-10-19 15:32:30 -0400 (Sun, 19 Oct 2025) EllapsedTime: 10.2 seconds RetCode: 0 Status: OK