Package: orthogene Version: 1.15.02 Command: /home/biocbuild/bbs-3.22-bioc/R/bin/R CMD check --install=check:orthogene.install-out.txt --library=/home/biocbuild/bbs-3.22-bioc/R/site-library --timings orthogene_1.15.02.tar.gz StartedAt: 2025-10-20 02:57:14 -0400 (Mon, 20 Oct 2025) EndedAt: 2025-10-20 03:09:16 -0400 (Mon, 20 Oct 2025) EllapsedTime: 721.9 seconds RetCode: 0 Status: OK CheckDir: orthogene.Rcheck Warnings: 0