Package: orthogene Version: 1.15.02 Command: /home/biocbuild/bbs-3.22-bioc/R/bin/R CMD build --keep-empty-dirs --no-resave-data --md5 orthogene StartedAt: 2025-10-19 19:08:00 -0400 (Sun, 19 Oct 2025) EndedAt: 2025-10-19 19:08:55 -0400 (Sun, 19 Oct 2025) EllapsedTime: 55.1 seconds RetCode: 0 Status: OK PackageFile: orthogene_1.15.02.tar.gz PackageFileSize: 2.645 MiB