Package: orthogene Version: 1.15.02 Command: rm -rf orthogene.buildbin-libdir && mkdir orthogene.buildbin-libdir && /Users/biocbuild/BBS/utils/build-universal.sh orthogene_1.15.02.tar.gz /Library/Frameworks/R.framework/Resources/bin/R orthogene.buildbin-libdir StartedAt: 2025-10-17 04:04:58 -0400 (Fri, 17 Oct 2025) EndedAt: 2025-10-17 04:05:18 -0400 (Fri, 17 Oct 2025) EllapsedTime: 19.7 seconds RetCode: 0 Status: OK PackageFile: orthogene_1.15.02.tgz PackageFileSize: 2.842 MiB