Package: orthogene Version: 1.15.02 Command: rm -rf orthogene.buildbin-libdir && mkdir orthogene.buildbin-libdir && /Users/biocbuild/BBS/utils/build-universal.sh orthogene_1.15.02.tar.gz /Library/Frameworks/R.framework/Resources/bin/R orthogene.buildbin-libdir StartedAt: 2025-10-19 23:09:49 -0400 (Sun, 19 Oct 2025) EndedAt: 2025-10-19 23:09:55 -0400 (Sun, 19 Oct 2025) EllapsedTime: 5.1 seconds RetCode: 0 Status: OK PackageFile: orthogene_1.15.02.tgz PackageFileSize: 2.845 MiB