Package: oppar Version: 1.38.0 Command: /Library/Frameworks/R.framework/Resources/bin/R CMD INSTALL oppar StartedAt: 2025-11-20 19:07:40 -0500 (Thu, 20 Nov 2025) EndedAt: 2025-11-20 19:08:23 -0500 (Thu, 20 Nov 2025) EllapsedTime: 42.4 seconds RetCode: 0 Status: OK