Package: oppar Version: 1.38.0 Command: /Library/Frameworks/R.framework/Resources/bin/R CMD check --install=check:oppar.install-out.txt --library=/Library/Frameworks/R.framework/Resources/library --no-vignettes --timings oppar_1.38.0.tar.gz StartedAt: 2025-11-18 10:26:22 -0500 (Tue, 18 Nov 2025) EndedAt: 2025-11-18 10:28:41 -0500 (Tue, 18 Nov 2025) EllapsedTime: 139.2 seconds RetCode: 0 Status: WARNINGS CheckDir: oppar.Rcheck Warnings: 2