Package: oppar Version: 1.38.0 Command: rm -rf oppar.buildbin-libdir && mkdir oppar.buildbin-libdir && /Users/biocbuild/BBS/utils/build-universal.sh oppar_1.38.0.tar.gz /Library/Frameworks/R.framework/Resources/bin/R oppar.buildbin-libdir StartedAt: 2025-11-18 16:04:37 -0500 (Tue, 18 Nov 2025) EndedAt: 2025-11-18 16:04:58 -0500 (Tue, 18 Nov 2025) EllapsedTime: 21.3 seconds RetCode: 0 Status: OK PackageFile: oppar_1.38.0.tgz PackageFileSize: 5.264 MiB