Package: openPrimeR Version: 1.32.0 Command: /Library/Frameworks/R.framework/Resources/bin/R CMD build --keep-empty-dirs --no-resave-data openPrimeR StartedAt: 2025-11-03 18:06:02 -0500 (Mon, 03 Nov 2025) EndedAt: 2025-11-03 18:08:07 -0500 (Mon, 03 Nov 2025) EllapsedTime: 124.4 seconds RetCode: 0 Status: OK PackageFile: openPrimeR_1.32.0.tar.gz PackageFileSize: 2.205 MiB