Package: ontoProc Version: 2.3.9 Command: F:\biocbuild\bbs-3.22-bioc\R\bin\R.exe CMD check --no-multiarch --install=check:ontoProc.install-out.txt --library=F:\biocbuild\bbs-3.22-bioc\R\library --no-vignettes --timings ontoProc_2.3.9.tar.gz StartedAt: 2025-08-15 06:02:54 -0400 (Fri, 15 Aug 2025) EndedAt: 2025-08-15 06:37:35 -0400 (Fri, 15 Aug 2025) EllapsedTime: 2081.4 seconds RetCode: 0 Status: OK CheckDir: ontoProc.Rcheck Warnings: 0