Package: oncoscanR Version: 1.11.1 Command: /home/biocbuild/R/R/bin/R CMD build --keep-empty-dirs --no-resave-data oncoscanR StartedAt: 2025-10-21 01:49:50 -0000 (Tue, 21 Oct 2025) EndedAt: 2025-10-21 01:53:35 -0000 (Tue, 21 Oct 2025) EllapsedTime: 225.1 seconds RetCode: 0 Status: OK PackageFile: oncoscanR_1.11.1.tar.gz PackageFileSize: 1015 KiB