Package: oncoscanR Version: 1.11.1 Command: F:\biocbuild\bbs-3.22-bioc\R\bin\R.exe CMD check --no-multiarch --install=check:oncoscanR.install-out.txt --library=F:\biocbuild\bbs-3.22-bioc\R\library --no-vignettes --timings oncoscanR_1.11.1.tar.gz StartedAt: 2025-08-15 06:02:15 -0400 (Fri, 15 Aug 2025) EndedAt: 2025-08-15 06:09:39 -0400 (Fri, 15 Aug 2025) EllapsedTime: 443.4 seconds RetCode: 0 Status: OK CheckDir: oncoscanR.Rcheck Warnings: 0