Package: oncoscanR Version: 1.11.1 Command: chmod a+r oncoscanR -R && F:\biocbuild\bbs-3.22-bioc\R\bin\R.exe CMD build --keep-empty-dirs --no-resave-data oncoscanR StartedAt: 2025-08-14 22:01:03 -0400 (Thu, 14 Aug 2025) EndedAt: 2025-08-14 22:03:35 -0400 (Thu, 14 Aug 2025) EllapsedTime: 152.0 seconds RetCode: 0 Status: OK PackageFile: oncoscanR_1.11.1.tar.gz PackageFileSize: 990.5 KiB