Package: oncoscanR Version: 1.11.1 Command: rm -rf oncoscanR.buildbin-libdir && mkdir oncoscanR.buildbin-libdir && F:\biocbuild\bbs-3.22-bioc\R\bin\R.exe CMD INSTALL --build --library=oncoscanR.buildbin-libdir oncoscanR_1.11.1.tar.gz StartedAt: 2025-08-15 10:52:59 -0400 (Fri, 15 Aug 2025) EndedAt: 2025-08-15 10:53:32 -0400 (Fri, 15 Aug 2025) EllapsedTime: 32.1 seconds RetCode: 0 Status: OK PackageFile: oncoscanR_1.11.1.zip PackageFileSize: 1.045 MiB