Package: oncoscanR Version: 1.11.1 Command: /home/biocbuild/bbs-3.22-bioc/R/bin/R CMD check --install=check:oncoscanR.install-out.txt --library=/home/biocbuild/bbs-3.22-bioc/R/site-library --timings oncoscanR_1.11.1.tar.gz StartedAt: 2025-10-21 02:45:27 -0400 (Tue, 21 Oct 2025) EndedAt: 2025-10-21 02:54:01 -0400 (Tue, 21 Oct 2025) EllapsedTime: 513.5 seconds RetCode: 0 Status: OK CheckDir: oncoscanR.Rcheck Warnings: 0