Package: oncoscanR Version: 1.11.1 Command: /Library/Frameworks/R.framework/Resources/bin/R CMD INSTALL oncoscanR StartedAt: 2025-10-23 15:18:01 -0400 (Thu, 23 Oct 2025) EndedAt: 2025-10-23 15:18:17 -0400 (Thu, 23 Oct 2025) EllapsedTime: 16.6 seconds RetCode: 0 Status: OK