Package: oncoscanR Version: 1.11.1 Command: /Library/Frameworks/R.framework/Resources/bin/R CMD check --install=check:oncoscanR.install-out.txt --library=/Library/Frameworks/R.framework/Resources/library --no-vignettes --timings oncoscanR_1.11.1.tar.gz StartedAt: 2025-10-20 21:07:29 -0400 (Mon, 20 Oct 2025) EndedAt: 2025-10-20 21:09:18 -0400 (Mon, 20 Oct 2025) EllapsedTime: 108.3 seconds RetCode: 0 Status: OK CheckDir: oncoscanR.Rcheck Warnings: 0