Package: oncomix Version: 1.31.0 Command: /home/biocbuild/R/R/bin/R CMD INSTALL oncomix StartedAt: 2025-10-16 21:50:10 -0000 (Thu, 16 Oct 2025) EndedAt: 2025-10-16 21:50:41 -0000 (Thu, 16 Oct 2025) EllapsedTime: 31.3 seconds RetCode: 0 Status: OK