Package: oncomix Version: 1.31.0 Command: /home/biocbuild/R/R/bin/R CMD build --keep-empty-dirs --no-resave-data oncomix StartedAt: 2025-10-17 03:17:23 -0000 (Fri, 17 Oct 2025) EndedAt: 2025-10-17 03:18:24 -0000 (Fri, 17 Oct 2025) EllapsedTime: 61.0 seconds RetCode: 0 Status: OK PackageFile: oncomix_1.31.0.tar.gz PackageFileSize: 1.885 MiB