Package: ompBAM Version: 1.13.0 Command: /home/biocbuild/R/R/bin/R CMD INSTALL ompBAM StartedAt: 2025-10-16 21:08:28 -0000 (Thu, 16 Oct 2025) EndedAt: 2025-10-16 21:08:38 -0000 (Thu, 16 Oct 2025) EllapsedTime: 10.4 seconds RetCode: 0 Status: OK