Package: ompBAM Version: 1.13.0 Command: /home/biocbuild/R/R/bin/R CMD check --install=check:ompBAM.install-out.txt --library=/home/biocbuild/R/R/site-library --no-vignettes --timings ompBAM_1.13.0.tar.gz StartedAt: 2025-10-17 11:50:36 -0000 (Fri, 17 Oct 2025) EndedAt: 2025-10-17 11:51:18 -0000 (Fri, 17 Oct 2025) EllapsedTime: 42.0 seconds RetCode: 0 Status: OK CheckDir: ompBAM.Rcheck Warnings: 0