Package: ompBAM Version: 1.13.0 Command: /home/biocbuild/R/R/bin/R CMD build --keep-empty-dirs --no-resave-data ompBAM StartedAt: 2025-10-17 03:16:48 -0000 (Fri, 17 Oct 2025) EndedAt: 2025-10-17 03:17:08 -0000 (Fri, 17 Oct 2025) EllapsedTime: 20.0 seconds RetCode: 0 Status: OK PackageFile: ompBAM_1.13.0.tar.gz PackageFileSize: 3.208 MiB