Package: ompBAM Version: 1.13.0 Command: /home/biocbuild/bbs-3.22-bioc/R/bin/R CMD INSTALL ompBAM StartedAt: 2025-10-19 15:03:24 -0400 (Sun, 19 Oct 2025) EndedAt: 2025-10-19 15:03:29 -0400 (Sun, 19 Oct 2025) EllapsedTime: 4.7 seconds RetCode: 0 Status: OK