Package: ompBAM Version: 1.13.0 Command: /home/biocbuild/bbs-3.22-bioc/R/bin/R CMD check --install=check:ompBAM.install-out.txt --library=/home/biocbuild/bbs-3.22-bioc/R/site-library --timings ompBAM_1.13.0.tar.gz StartedAt: 2025-10-20 02:51:35 -0400 (Mon, 20 Oct 2025) EndedAt: 2025-10-20 02:52:17 -0400 (Mon, 20 Oct 2025) EllapsedTime: 42.0 seconds RetCode: 0 Status: OK CheckDir: ompBAM.Rcheck Warnings: 0