Package: ompBAM Version: 1.13.0 Command: /Library/Frameworks/R.framework/Resources/bin/R CMD check --install=check:ompBAM.install-out.txt --library=/Library/Frameworks/R.framework/Resources/library --no-vignettes --timings ompBAM_1.13.0.tar.gz StartedAt: 2025-10-21 00:26:14 -0400 (Tue, 21 Oct 2025) EndedAt: 2025-10-21 00:27:17 -0400 (Tue, 21 Oct 2025) EllapsedTime: 62.2 seconds RetCode: 0 Status: OK CheckDir: ompBAM.Rcheck Warnings: 0