Package: ompBAM Version: 1.13.0 Command: /Library/Frameworks/R.framework/Resources/bin/R CMD build --keep-empty-dirs --no-resave-data ompBAM StartedAt: 2025-10-20 18:32:44 -0400 (Mon, 20 Oct 2025) EndedAt: 2025-10-20 18:33:33 -0400 (Mon, 20 Oct 2025) EllapsedTime: 49.2 seconds RetCode: 0 Status: OK PackageFile: ompBAM_1.13.0.tar.gz PackageFileSize: 3.142 MiB