Package: omicsViewer Version: 1.14.0 Command: /Library/Frameworks/R.framework/Resources/bin/R CMD check --install=check:omicsViewer.install-out.txt --library=/Library/Frameworks/R.framework/Resources/library --no-vignettes --timings omicsViewer_1.14.0.tar.gz StartedAt: 2025-11-18 11:29:55 -0500 (Tue, 18 Nov 2025) EndedAt: 2025-11-18 11:41:11 -0500 (Tue, 18 Nov 2025) EllapsedTime: 675.4 seconds RetCode: 0 Status: WARNINGS CheckDir: omicsViewer.Rcheck Warnings: 1