Package: omicsViewer Version: 1.14.0 Command: rm -rf omicsViewer.buildbin-libdir && mkdir omicsViewer.buildbin-libdir && /Users/biocbuild/BBS/utils/build-universal.sh omicsViewer_1.14.0.tar.gz /Library/Frameworks/R.framework/Resources/bin/R omicsViewer.buildbin-libdir StartedAt: 2025-11-18 18:12:12 -0500 (Tue, 18 Nov 2025) EndedAt: 2025-11-18 18:13:32 -0500 (Tue, 18 Nov 2025) EllapsedTime: 80.8 seconds RetCode: 0 Status: OK PackageFile: omicsViewer_1.14.0.tgz PackageFileSize: 4.402 MiB