Package: omicsViewer Version: 1.14.0 Command: /Library/Frameworks/R.framework/Resources/bin/R CMD build --keep-empty-dirs --no-resave-data omicsViewer StartedAt: 2025-11-17 23:29:17 -0500 (Mon, 17 Nov 2025) EndedAt: 2025-11-17 23:29:39 -0500 (Mon, 17 Nov 2025) EllapsedTime: 22.2 seconds RetCode: 0 Status: OK PackageFile: omicsViewer_1.14.0.tar.gz PackageFileSize: 4.332 MiB