Package: omicsPrint Version: 1.29.0 Command: /Library/Frameworks/R.framework/Resources/bin/R CMD INSTALL omicsPrint StartedAt: 2025-10-02 15:20:53 -0400 (Thu, 02 Oct 2025) EndedAt: 2025-10-02 15:21:29 -0400 (Thu, 02 Oct 2025) EllapsedTime: 35.6 seconds RetCode: 0 Status: OK