Package: omicsGMF Version: 1.0.0 Command: /home/biocbuild/bbs-3.22-bioc/R/bin/R CMD INSTALL omicsGMF StartedAt: 2025-11-09 15:57:37 -0500 (Sun, 09 Nov 2025) EndedAt: 2025-11-09 15:58:13 -0500 (Sun, 09 Nov 2025) EllapsedTime: 35.8 seconds RetCode: 0 Status: OK