Package: omicsGMF Version: 1.0.0 Command: /Library/Frameworks/R.framework/Resources/bin/R CMD check --install=check:omicsGMF.install-out.txt --library=/Library/Frameworks/R.framework/Resources/library --no-vignettes --timings omicsGMF_1.0.0.tar.gz StartedAt: 2025-11-03 23:03:38 -0500 (Mon, 03 Nov 2025) EndedAt: 2025-11-03 23:16:17 -0500 (Mon, 03 Nov 2025) EllapsedTime: 759.0 seconds RetCode: 0 Status: OK CheckDir: omicsGMF.Rcheck Warnings: 0